Workbook
Name BOD: #REF!
Name BOD: #REF!
Name BOD: #REF!
Name BOD: #REF!
Name BOD: #REF!
Name BOD: #REF!
Name BOD: #REF!
Name BOD: #REF!
Name BOD: #REF!
Name BOD: #REF!
Name BOD: #REF!
Name BOD: #REF!
Name SDAD: #REF!
Name SDAD: #REF!
Name SDAD: #REF!
Name SDAD: #REF!
Name SDAD: #REF!
Name SDAD: #REF!
Name SDAD: #REF!
Name SDAD: #REF!
Name SDAD: #REF!
Name SDAD: #REF!
Name SDAD: #REF!
Name SDAD: #REF!
Name SDAD: #REF!

Sheet naslovnica
A2: OIB: 89476647133
A3: Gornji Prnjarovec 41A, Križ
A4: tel: 098/472-690
A5: e-mail: info@alproing.hr
A6: OIB: 89476647133
A11: Investitor: | C11: OPĆINA ŠTEFANJE
C12: Štefanje 61, 43 246 Štefanje
C13: OIB: 02595225846
A15: Građevina: | C15: ZGRADA DRUŠTVENOG DOMA - STARINE
A18: Zahvat: | C18: OBNOVA I OPREMANJE DRUŠTVENOG DOMA
C19: U STARINAMA
A21: Lokacija: | C21: k.č.br. 118 k.o. Laminac
A26: Vrsta dokumenta: | C26: TROŠKOVNIK
A29: Broj dokumenta: | C29: T.D. 13/26 T
A34: Izradio: | C34: Alen Leljak, mag.ing.aedif. G 5916
A38: Suradnik: | C38: Filip Pečnjak, mag.ing.aedif.
A43: Mjesto i datum: | C43: Križ, ožujak 2026.

Sheet UVJETI
B1: UVJETI IZVOĐENJA RADOVA
B2: Sastavni dio troškovnika su sva prava i obveze koja proizlaze iz Zakona o gradnji (NN 155/25), Zakona o zaštiti na radu (NN 71/14, 118/14, 154/14, 94/18, 96/18) i Zakona o obveznim odnosima (NN 35/05, 41/08, 125/11, 78/15 i 29/18).
B3: Za sve radove treba primjenjivati tehničke propise, pravilnike, odredbe, uzance o građenju, građ.norme, a upotrijebljeni materijal, koji izvođač dobavlja i ugrađuje, mora odgovarati važećim normama i propisima uz prethodno odobrenje nadzornog inženjera i investitora.
B4: Izvedba radova treba biti prema troškovničkom opisu radova u skladu s pravilima struke.
B5: Eventualna odstupanja treba prethodno dogovoriti s nadzornim inženjerom i investitorom, za svaki pojedini slučaj.
B6: Za svaku izmjenu ili dopunu potrebno je dobiti pismenu suglasnost nadzornog inženjera i investitora.
B7: Tolerancije mjera izvedenih radova određene su pravilima struke, odnosno prema odluci nadzornog inženjera i investitora. Sva odstupanja izvođač je dužan otkloniti o svom trošku.
B8: Ukoliko izvođač uoči dodatne radove koji nisu navedeni u stavkama troškovnika, dužan je za iste (vantroškovničke radove) dostaviti ponudu s analizom cijena.
B9: Izvođač radova u prisutnosti je Investitora izvršio pregled lokacije, odnosno potrebnih radova prema ovom troškovniku, te je s istim suglasan.
B10: Sve stavke troškovnika podrazumijevaju sav potreban materijal i rad te dodatnu tehničku dokumentaciju za izvedbu iste. Sav nastao otpad prilikom izvođenja izvođač je dužan zbrinuti na zakonom propisan način i mora biti uključen u cijenu ponuđene stavke. Svi metalni dijelovi moraju biti akz zaštićeni.
B11: Obaveza Izvođača radova je zbrinjavanje svog otpadnog materijala kao i svakodnevno i završno čišćenje manipulativnih i radnih prostora(isto mora biti uključeno u ponuđenu cijenu).
B13: Sve stavke troškovnika podrazumijevaju dobavu i upotrebu opreme za rad na visini (ljestve, skele, platforme i sl.) u svemu u skladu s pravilima zaštite na radu; uključivo sva spojna i vezna sredstva, potrebne alate i projekt skele.
... B37: ukoliko se nedostaci ne otklone u definiranom roku, ugovorne strane su suglasne da se sanacija, odnosno završetak radova, izvrši o trošku izvođača.

Sheet I. ZEMLJANI
A1: R.br. | B1: OPIS | C1: J.mj. | D1: Količina | E1: Cijena | F1: Iznos €
A3: I. | B3: ZEMLJANI RADOVI
A5: 1. | B5: Strojni iskop humusa u sloju cca 30 cm, utovar i odvoz materijala iz iskopa na deponij osiguran od strane izvođača, odnosno deponiranje dijela materijala iz iskopa na gradilišnu deponiju i ponovno razastiranje.
B6: iskop, utovar i odvoz na deponij osiguran od strane izvođača
C7: m3 | D7: 15 | F7: =D7*E7 -> 0
A8: 2. | B8: Nabava, doprema i ugradnja riječnog (oblog) kamena dimenzija 16-32mm te izradu drenažnog sustava uz trakaste temelje. Kamen se postavlja u prosječnoj širini 1,0 m, visine cca 0,30 m, na prethodno postavljene drenažne cijevi na geotekstil.
A9: - | B9: drenažna cijev fi 110 | C9: m | D9: 30 | F9: =D9*E9 -> 0
A10: - | B10: geotekstil 300g/m2 | C10: m2 | D10: 40 | F10: =D10*E10 -> 0
A11: - | B11: kameni materijal 16-32mm | C11: m3 | D11: 10 | F11: =D11*E11 -> 0
A13: 3. | B13: Planiranje i izvedba padova terena i okoliša od građevine.
C14: m2 | D14: 150 | F14: =D14*E14 -> 0
A16: I. | B16: UKUPNO ZEMLJANI RADOVI: | F16: =SUM(F7:F14) -> 0

Sheet II. DEMONTAŽE  I  RUŠENJA
A1: R.br. | B1: OPIS | C1: J.mj. | D1: Količina | E1: Cijena | F1: Iznos €
A3: II. | B3: DEMONTAŽE I RUŠENJA
B4: Sve demontaže treba vršiti pažljivo, kako ne bi došlo do nepotrebnog oštećivanja građevinskih elemenata koji zadržavaju oblik, položaj i funkciju. Kod vršenja proboja za nove otvore ili vođenje instalacija u nosivim zidovima, zahvat vršiti maksimalno precizno bez narušavanja nosivih svojstava konstrukcije. Izvođenje radova demontaže treba se odvijati u skladu s tehničkim propisima i sukladno propisima zaštite na radu. Kod većih otvora obavezno je podupiranje konstrukcije te isto mora biti obuhvaćeno ponuđenom cijenom. Demontaže predviđenih elemenata izvoditi bez dinamičkih udara koji bi mogli izazvati oštećenja na konstrukciji koja ostaje u funkciji i kako se ne bi narušio integritet konstrukcije zgrade. Kod dubljenja ležaja u nosivim zidovima za razne nadvoje i grede (čelične traverze) zahvat izvoditi precizno uz minimalno oštećivanje okolnih konstrukcija. Radi nastanka prašine prilikom radova rušenja u obvezi izvoditelja je izvođenje odgovarajuće zaštite prostora koji su u funkciji kako prašina ne bi prodirala u te prostore te isto mora biti obuhvaćeno ponuđenom cijenom. Prilikom zahvata vezanih za konstrukcije stropova, greda, stupova i sl. obavezno vršiti podupiranje te radnje vršiti uz prisustvo nadzornog inženjera i savjeta projektanta konstrukcije. U jediničnoj cijeni svih radova demontaža treba biti uključeno potrebno podupiranje, uklanjanje elemenata ili njihova demontaže, razbijanje i usitnjavanje elemenata kao pripremu za utovar te prijenos na gradilišnu deponiju na potrebnu udaljenost ovisno o prilikama radilišta. Eventualna upotreba skele treba biti ukalkulirana u jediničnoj cijeni pojedine stavke demontaža. Prijenos, utovar u prijevozno sredstvo, te prijevoz na gradsku planirku do 5 km udaljenosti, istovar, razastiranje i planiranje na planirki, te potrebna taksa za korištenje planirke, ukalkulirati u svaku pojedinačnu stavku. Obračun po m3, m2, m' demontiranih elemenata konstrukcije mjereno u netaknutom stanju na gradilištu ili eventualno u kg za čelične konstrukcije ili komadima za demontirane predmete.
B5: Sve štete nastale nepažnjom ili radi nepravovremenih preventivnih mjera snositi će izvođač. Eventualne promjene uslijed utvrđenih razlika između predviđenih i potrebnih radova obavezno dogovarati s nadzornim organom. Odvoz materijala od rušenja i demontaže vršiti će se na gradsku deponiju ili prema dogovoru s investitorom, što mora biti sadržano u jediničnoj cijeni stavke.
B6: NAPOMENA: u jedinične cijene stavki obavezno uključiti sve nabave, transporte i ugradnje materijala, sav potrebni rad, osnovni i pomoćni materijal i pomoćne radnje, pokretnu skelu; razne pripomoći i sl., a sve do potpune funkcionalne gotovosti pojedine stavke, uključivo čišćenje nakon dovršetka i u tijeku radova - ako opisom stavke nije drugačije određeno.
A8: 1. | B8: Čišćenje pročelja građevine od korova, lišajeva i druge biološke nečistoće
B9: Obuhvaća mehaničko uklanjanje korova, mahovine i lišajeva s površina građevine, uključujući čišćenje te odvoz i zbrinjavanje nastalog otpada. U cijenu uključeni svi potrebni radovi, materijal, radna snaga i zaštitne mjere.
C10: m2 | D10: 30 | F10: =D10*E10 -> 0
A11: 2. | B11: Demontaža postojećeg pokrova (crijepa) i krovnih letvi
B12: Obuhvaća pažljivu demontažu postojećeg crijepa i drvenih letvi, spuštanje materijala na tlo, utovar te odvoz i zbrinjavanje na za to predviđeno odlagalište. U cijenu uključeni svi potrebni radovi, alati, radna snaga, skela za rad na visini i zaštitne mjere.
C13: m2 | D13: 170 | F13: =D13*E13 -> 0
A14: 3. | B14: Demontaža svih predmeta koji su pričvršćeni na fasadu zgrade, te eventualna ponovna montaža (prema odluci Investitora) nakon završetka izrade fasade. Pažljivo odlaganje i čuvanje do ponovne montaže. Sve demontirano prije ponovne ugradnje treba oprati i očistiti, sve čelične elemente AKZ zaštiti i u dva sloja završno obojati u tonu prema odabiru investitora. U stavku je uračunat sav rad i transport do potpune gotovosti, sav spojni i pričvrsni materijal za ponovnu montažu te montaža.
B15: a) rasvjetna lampa | C15: kom. | D15: 2 | F15: =D15*E15 -> 0
B16: b) elektro ormarić i sl. | C16: kom. | D16: 1 | F16: =D16*E16 -> 0
A18: 4. | B18: Uklanjanje postojećih drvenih stupova uz privremeno podupiranje krovne konstrukcije
B19: Obuhvaća demontažu i uklanjanje postojećih drvenih stupova natkrivenog prostora, uz prethodnu izvedbu privremenog podupiranja krovne konstrukcije (podgrade, podupirači) radi osiguranja stabilnosti tijekom radova. Uključuje dobavu i postavu privremenih podupirača, kontrolu stabilnosti, demontažu stupova, spuštanje materijala, utovar te odvoz i zbrinjavanje otpada. Nakon završetka radova predviđena demontaža privremenog podupiranja. U cijenu uključeni svi radovi, materijal, radna snaga i zaštitne mjere.
C20: kom. | D20: 4 | F20: =E20*D20 -> 0
A21: 5. | B21: Demontaža i uklanjanje postojeće drvene lamperije sa zabatnih zidova natkrivenog prostora građevine. Obračun po m2 površine zida.
C22: m2 | D22: 25 | F22: =E22*D22 -> 0
A23: 6. | B23: Demontaža i uklanjanje drvenih vjetar lajsni
C24: m | D24: 30 | F24: =E24*D24 -> 0
A25: 7. | B25: Demontaža i uklanjanje postojećeg dimnjaka
B26: Obuhvaća ručnu i strojnu demontažu dimnjaka iznad i ispod krovne plohe, razbijanje i uklanjanje svih slojeva, spuštanje materijala, utovar te odvoz i zbrinjavanje građevinskog otpada. Uključuje osiguranje okolne konstrukcije i sanaciju mjesta prodora kroz krov (privremeno zatvaranje). U cijenu uključeni svi radovi, radna snaga, alati i zaštitne mjere.
C27: kom. | D27: 1 | F27: =E27*D27 -> 0
A28: 8. | B28: Demontaža spuštenog AMF stropa
B29: Obuhvaća pažljivu demontažu mineralnih ploča i nosive metalne potkonstrukcije (profili, ovjesi), spuštanje materijala, razvrstavanje, utovar te odvoz i zbrinjavanje otpada. U cijenu uključeni svi potrebni radovi, radna snaga, alati i zaštitne mjere.
C30: m2 | D30: 50 | F30: =E30*D30 -> 0
A31: 9. | B31: Ručno obijanje trošne žbuke debljine 2,5-4 cm sa ravnih ploha unutarnjih zidova, uključivo i keramički sokl. Ziđe je od opeke. Nakon obijanja žbuke zid očistiti čeličnim četkama, a priljubnice očistiti do dubine od 1 cm. Potom cijelu površinu otprašiti i isprati vodom. Uključivo prijenos i odlaganje na gradilišnu deponiju šute. Obračun po m2 ortogonalne projekcije zidova ne računajući površine prozorskih otvora.
C32: m2 | D32: 90 | F32: =E32*D32 -> 0
A34: II. | B34: UKUPNO DEMONTAŽE I RUŠENJA: | F34: =SUM(F10:F33) -> 0

Sheet III. ZIDARSKI
A1: R.br. | B1: OPIS | C1: J.mj. | D1: Količina | E1: Cijena | F1: Iznos €
A3: III. | B3: ZIDARSKI RADOVI
A5: 1. | B5: Nabava svog materijala, svi transporti i izrada grube i fine žbuke unutarnjih zidova vapneno cementnom produžnom žbukom d=2,0 cm, s predhodnim nabacivanjem cementnog šprica, rabiciranjem svih spojeva različitih materijala, ugradnjom horizontalnih i vertikalnih zaštitnih kutnih profila, ugradnjom sokl zaštitnih profila.
C6: m2 | D6: 90 | F6: =D6*E6 -> 0
A7: 2. | B7: Nabava svog materijala, svi transporti i izrada vanjskih slojeva špaleta uključivo sav osnovni i pomoćni rad i materijal do potpune funkcionalne gotovosti.
B8: Radove je potrebno obaviti nanošenje polimercementne žbuke u sloju d=2,0 cm uz obaveznu kontrolu vertikalne i horizontalne ravnine
C9: m2 | D9: 20 | F9: =D9*E9 -> 0
A10: 3. | B10: Dobava i ugradnja unutarnjih PVC klupčica
C11: m | D11: 4 | F11: =D11*E11 -> 0
A13: III. | B13: UKUPNO ZIDARSKI RADOVI: | F13: =SUM(F5:F11) -> 0

Sheet IV. PODOPOLAGAČKI
A1: R.br. | B1: OPIS | C1: J.mj. | D1: Količina | E1: Cijena | F1: Iznos €
A3: IV. | B3: PODOPOLAGAČKI RADOVI
A5: 1. | B5: Nabava svog materijala, svi transporti i polaganje prema shemi polaganja vanjskih podnih, otpornih na habanje i abraziju, protukliznih R11 keramičkih pločica ljepljenjem prema shemi polaganja na prethodno pripremljenu podlogu s fugiranjem masom na bazi epoxy smola, uključivo profili na dilatacijama i sudarima podova, obrada svih sudara, reški i spojnica trajnoelastičnim kitom uz obavezno predočenje najmanje 10 uzoraka na odabir Naručitelju - sve do potpune funkcionalne gotovosti. (natkriveni predulaz)
B6: Obračun po m² izvedenog poda.
C7: m2 | D7: 30 | F7: =D7*E7 -> 0
A8: 2. | B8: Dobava i postava sokla od keramičkih pločica iz st. 1. na zidovima.
B9: Sokl visine 10 cm.
B10: Na vanjskim uglovima se pločice spajaju rezanjem pod 45°.
B11: Obračun po m' izvedenog sokla.
B12: vanjski sokl | C12: m | D12: 12 | F12: =D12*E12 -> 0
B13: unutarnji sokl | C13: m | D13: 30 | F13: =D13*E13 -> 0
A15: IV. | B15: UKUPNO PODOPOLAGAČKI RADOVI: | F15: =SUM(F7:F12) -> 0

Sheet V. IZOLATERSKI
A1: R.br. | B1: OPIS | C1: J.mj. | D1: Količina | E1: Cijena | F1: Iznos €
A3: V. | B3: IZOLATERSKI RADOVI
A5: 1. | B5: Oblaganje stropne konstrukcije s mineralnom vunom i PE folijom
B6: Stavka obuhvaća kompletnu izvedbu oblaganja stropne konstrukcije termo‑i zvučno izolacijskim slojem od mineralne vune te zaštitom PE folijom. Radovi uključuju pripremu stropne površine, ugradnju mineralne vune odgovarajuće gustoće i debljine (d= 10cm), te pričvršćivanje i zatezanje PE folije radi zaštite izolacijskog sloja. Obuhvaća sve potrebne materijale, pričvrsne elemente i radove, kao i završnu kontrolu izvedenog sloja, kako bi stropna konstrukcija postigla propisanu toplinsku i zvučnu izolaciju te zaštitu od vlage i prašine. Cijena uključuje dobavu materijala i izvođenje radova do gotove, funkcionalne površine.
B7: PE folija | C7: m2 | D7: 80 | F7: =D7*E7 -> 0
B8: Mineralna vuna d=10 cm | C8: m2 | D8: 80 | F8: =D8*E8 -> 0
A10: V. | B10: UKUPNO IZOLATERSKI RADOVI: | F10: =SUM(F6:F8) -> 0

Sheet VI. BRAVARSKI
A1: R.br. | B1: OPIS | C1: J.mj. | D1: Količina | E1: Cijena | F1: Iznos €
A3: VI. | B3: BRAVARSKI RADOVI
A5: 1. | B5: Izrada, dobava i ugradnja čeličnih stupova s antikorozivnom zaštitom
B6: Obuhvaća izradu čeličnih stupova fi 100/4 mm (rezanje, obrada, zavarivanje), dobavu i transport na gradilište te ugradnju. Uključuje pripremu površine i antikorozivnu zaštitu (temeljni premaz + završni premaz) u boji po izboru investitora. U cijenu uključeni sav materijal, rad, spojni i pričvrsni elementi, montaža te potrebne zaštitne mjere.
C7: kom | D7: 4 | F7: =D7*E7 -> 0
A9: VI. | B9: UKUPNO BRAVARSKI RADOVI | F9: =SUM(F7:F7) -> 0

Sheet VII. FASADERSKI
A1: R.br. | B1: OPIS | C1: J.mj. | D1: Količina | E1: Cijena | F1: Iznos €
A3: VII. | B3: FASADERSKI RADOVI
B5: NAPOMENA: u jedinične cijene stavki obavezno uključiti sve nabave, transporte i ugradnje materijala, sav potrebni rad, osnovni i pomoćni materijal i pomoćne radnje, te potrebne skele; razne pripomoći i sl., a sve do potpune funkcionalne gotovosti pojedine stavke, uključivo čišćenje nakon dovršetka i u tijeku radova. U jediničnim cijenama uključiti dobavu, montažu i demontažu fasadne skele za potrebe izvođenja radova. Obračun radova po m2. Prema građevinskoj normi otvori veličine do 3 m2 ne odbijaju se od površine, kod otvora veličine od 3-5 m2 odbija se površina veća od 3 m2, a otvori veći od 5 m2 odbijaju se u cijelosti. Kod otvora veličine preko 5 m2 špalete obračunati posebno po m1. Izvoditelj je obavezan prije početka radova dostaviti na uvid sve ateste za ugrađeni materijal kao i izjave o sukladnosti za ETICS sustav kontaktne fasade sukladno zahtjevima iz glavnog projekta. Prije izvođenja sustava toplinske zaštite vanjskih zidova potrebno je obaviti provjeru i procjenu podloge te pripremu podloge u skladu s ocjenjenim stanjem. Provjera se obavlja u cilju utvrđivanja vrste i kvalitete podloge, vlažnosti podloge, opasnosti od prodiranja vlage u slojeve toplinske izolacije, čvrstoće podloge i ravnosti zida. Ako odstupanje ravnosti podloge nije u dopuštenim granicama tolerancije prema HRN DIN 18202, podloga se mora žbukanjem poravnati. Projektom je predviđeno obijanje sve trusne žbuke fragmentarno te ponovno žbukanje istih površina, otprašivanje i pranje podloge u cjelini. Ostale pripreme izvođač mora izvesti prema ocjeni stanja. Svi fasaderski radovi se rade isključivo u svrhu propisne izvedbe mjera poboljšanja energetske učinkovitosti, odnosno nužni su za njihovu funkcionalnost i cjelovitost te spadaju u opravdane troškove energetske obnove.
B6: Stavka podrazumijeva izradu zaštite od sunca fasaderskih radova. Ova stavka izvodi se obavezno ako su dnevne temperature zraka veće od 15 °C zbog prebrzog isušivanja ljepila, što dovodi do "pregaranja" a kasnije i do odpadanja dijelova fasade. Naročito je potrebna zaštita prilikom nanošenja završnog sloja jer je na visokim temperaturama nemoguće kvalitetno izvesti završni sloj fasade.
B7: IZVEDBA ETICS SUSTAVA
B8: Tehničko-izolacijski uvjeti:
B9: - koef. prolaska topline novoizvedenog sustava vanjskih zidova U ≤ 0,25 W/m2K
A11: 1. | B11: Dobava i ugradnja materijala za izvedbu POVEZANOG SUSTAVA ZA VANJSKU TOPLINSKU IZOLACIJU (ETICS) NA OSNOVI TVRDIH PLOČA OD MINERALNE VUNE d= 5 cm.
B12: • Na visini >= 30 cm od razine tla na zid se građevinskim ljepilom zalijepi OSNOVNI RUBNI PROFIL, širine: 5 cm i mehanički pričvrsti vijcima 2 kom/m'
B13: Postava ploča na zid izvodi se ljepljenjem polimerno-cementnim ljepilom točkasto i po rubovima ploče, istovremenim mehaničkim učvršćenjem (6-8 spojnica/m2).
B14: • Špalete izvesti sa pločama debljine 2,0cm. Punoplošna izolacija mora pokriti čelo ploče špalete. Lijepe se s polimerno-cementnim ljepilom i pričvrste sa pričvrsnicama za ploče 2 kom/m'.
B15: • Ploče učvrstiti s PRIČVRSNICAMA u zid, najranije 24 sata nakon lijepljenja, na uglovima, na krajevima sustava i oko otvora najmanje 2 kom/m. ( Broj pričvrsnica prema proračunu HRN EN 13499).
B16: mineralna vuna | C16: m2 | D16: 30 | F16: =D16*E16 -> 0
A18: 2. | B18: Dobava i ugradnja materijala za izvedbu POVEZANOG SUSTAVA ZA VANJSKU TOPLINSKU IZOLACIJU ( ETICS ) NA PODLOZI OD TVRDIH PLOČA MINERALNE VUNE d=5 cm.
B19: Na ploče od kamene vune nanosi se metalnom gladilicom prvi sloj polimerno-cementnog ljepila u debljini oko 2 mm i širini 1.10 m i odmah utisne ALKALNO POSTOJANA STAKLENA MREŽICA i zagladi od sredine prema krajevima. Za preklop sliedećeg reda mrežice 10 cm, ne nanosi se ljepilo na prethodnu mrežicu već se zaljepi na svježe ljepilo. Stavka podrazumijeva potrebne skele za rad na visini.
B20: Drugi sloj ljepila nanjeti u debljini oko 1 mm utrošak ljepila(4) kg/m2, a mrežice 1.10 m2/m2.
B21: U svemu izvesti prema projektu i preporukama isporučitelja sustava. Sve komponente sustava moraju se ugraditi od istog proizvođača ili isporučitelja. Obračun po razvijenoj površini.
B22: Završno-zaštitna ukrasna žbuka.
B23: • SILIKATNA ŽBUKA U PASTI za veličinu zrna 2 mm, 3,5 kg/m2
B24: • prednamaz za SILIKATNU ŽBUKU U PASTI, 0,3 kg/m2
B25: silikatna žbuka | C25: m2 | D25: 30 | F25: =D25*E25 -> 0
A27: 3. | B27: Nabava svog materijala, svi transporti i izrada vanjskih slojeva sokla zidova prema opisu, uključivo sav osnovni i pomoćni rad i materijal do potpune funkcionalne gotovosti, u slojevima kako slijedi:
A28: a) | B28: postavljanje ploča od extrudiranog polistirena XPS d=3 cm (min 2,5 kg/m2; λ≤0,03 W/mK) s rubnim preklopima ljepljenjem trakasto i točkasto polimercementnim ljepilom u jednom sloju i dodatnim učvršćivanjem tiplama od poliamida na prethodno pripremljene vanjske zidove uz obaveznu kontrolu vertikalne i horizontalne ravnine.
C29: m2 | D29: 20 | F29: =SUM(D29*E29) -> 0
A30: b) | B30: nanošenje polimercementne žbuke s alkalno otpornom mrežicom u sloju d=0,5 cm uz obaveznu kontrolu vertikalne i horizontalne ravnine
C31: m2 | D31: 20 | F31: =SUM(D31*E31) -> 0
A32: c) | B32: nanošenje završne akrilne mozaik žbuke u sloju d=0,3 cm klase negorivosti C
C33: m2 | D33: 20 | F33: =SUM(D33*E33) -> 0
A34: 4. | B34: Izvedba nove SEP fasade
B35: Obuhvaća dobavu i ugradnju kompletnog fasadnog sustava, uključujući pripremu podloge, impregnaciju te završnu dekorativnu žbuku. U cijenu uključeni sav materijal, radna snaga, skela, transport i zaštitne mjere.
C36: m2 | D36: 95 | F36: =SUM(D36*E36) -> 0
A37: 5. | B37: Dobava i ugradnja ALU klupčica (vanjske) razvijene širine do cca 30cm na prozorske otvore, bijele boje sa okapnicom cca 3cm i bočnim čepovima kao završecima.
C38: m | D38: 4 | F38: =SUM(D38*E38) -> 0
A40: VII. | B40: UKUPNO FASADERSKI RADOVI: | F40: =SUM(F16:F38) -> 0

Sheet VIII. KROVOPOKRIVAČKI
A1: R.br. | B1: OPIS | C1: J.mj. | D1: Količina | E1: Cijena | F1: Iznos €
A3: VIII. | B3: KROVOPOKRIVAČKI RADOVI
A5: 1. | B5: Nabava, doprema i postava poprečnih kontra letvi 5/8 cm koje se polažu na prethodno poravnatu krovnu plohu. Letvu i kontra letvu postaviti prema uputama proizvođaća pokrova, uključujući potrebni materijal kao i premaz zaštitnim antifungicidnim impregnacijskim sredstvom. Jediničnom cijenom obuhvaćene sve potrebne predradnje do potpune gotovosti sustava.
B6: Obračun po m2 tlocrtne površine krova | C6: m2 | D6: 170 | F6: =D6*E6 -> 0
A8: 2. | B8: Pokrivanje dvostrešnog krovišta termoizolacijskim panelom d=5cm u imitaciji crijepa, u boji prema odabiru investitora.
B9: U cijenu je uključeno ravnanje krovne plohe i kompletna izvedba pokrova sa odgovarajućim završetcima, dobava i ugradnja tipskih elemenata snjegobrana, zaštitne mrežice i sl.
B10: Polaganje u svemu prema preporukama i detaljima proizvođača pokrova i pravilima struke, vodeći računa o nagibu krova i lokalnim uvjetima. Pokrivanje krova smiju izvoditi samo stručno osposobljeni polagači.
B11: Kod pokrivanja krova voditi računa o provjetravanju krova prema detaljima proizvođača pokrova.
B12: Obračun po m2 tlocrtne površine krova | C12: m2 | D12: 170 | F12: =D12*E12 -> 0
A14: VIII. | B14: UKUPNO KROVOPOKRIVAČKI RADOVI: | F14: =SUM(F6:F13) -> 0

Sheet IX. LIMARSKI
A1: R.br. | B1: OPIS | C1: J.mj. | D1: Količina | E1: Cijena | F1: Iznos €
A3: IX. | B3: LIMARSKI RADOVI
A5: 1. | B5: Nabava svog materijala, svi transporti, izrada i montaža dilatacijskih opšava, opšav vijenaca, vjetarlajsne, nadozida, raznih sudara i drugog od aluminijskog lima d=0,70 mm plastificiranog u boji i tonu po izboru projektanta, uključivo okapnica, dilatacijski preklop, svi potrebni profili za sidrenje, te sav ostali rad i materijal do potpune gotovosti.
B6: r.š.=64 cm | C6: m | D6: 65 | F6: =D6*E6 -> 0
A8: 2. | B8: Nabava svog materijala, svi transporti, izrada i montaža vertikala za odvodnju krovne vode od aluminijskog lima d=0,8 mm, plastificiranog u boji i tonu po izboru projektanta promjera 100 mm, uključivo sidrenja, pomoćne konstrukcije, fazonske komade (ne obračunavaju se posebno) te sav rad i materijal do potpune gotovosti.
C9: m | D9: 10 | F9: =D9*E9 -> 0
A10: 3. | B10: Nabava svog materijala, svi transporti, izrada i montaža horizontalnog žlijeba za odvodnju krovne vode od aluminijskog lima d=0,8 mm, plastificiranog u boji i tonu po izboru projektanta presjeka kanala cca 120 cm2, uključivo sidrenja, pomoćne konstrukcije, kutni izljevi 65×100×500/90° za spajanje na bitumen, PVC, TPO i polimer-betonski premaz za spoj s limenim vertikalama (ne obračunavaju se posebno) te sav rad i materijal do potpune gotovosti. U svemu prema izvedbenom detalju projekta i radioničkoj shemi.
C11: m | D11: 25 | F11: =D11*E11 -> 0
A12: 4. | B12: Dobava materijala i izrada limene lamperije na podgledu i zabatu krova, uključivo izrada i montaža podkonstrukcije od pocinčanih metalnih profila ili drvenih letvi, niveliranje i pričvršćivanje konstrukcije, ugradnja profilirane limene lamperije (plastificirani ili pocinčani lim), rezanje i prilagodba elemenata, pričvršćivanje vijcima s brtvama, izrada spojeva i završnih rubova te sav potreban spojni i pričvrsni materijal. U stavku uključiti sav potreban transport, rad, alat i sitni potrošni materijal.
C13: m2 | D13: 45 | F13: =D13*E13 -> 0
A15: IX. | B15: UKUPNO LIMARSKI RADOVI: | F15: =SUM(F6:F14) -> 0

Sheet X. SOBOSLIKARSKI
A1: R.br. | B1: OPIS | C1: J.mj. | D1: Količina | E1: Cijena | F1: Iznos €
A3: X. | B3: SOBOSLIKARSKO-LIČILAČKI RADOVI
A5: 1. | B5: Gletanje zidova – dobava materijala i izvođenje finog gletanja unutarnjih zidnih i stropnih površina glet masom u dva sloja, uključujući prethodnu pripremu podloge, lokalno popunjavanje manjih neravnina, brušenje između slojeva te završno brušenje do potpuno glatke površine spremne za bojanje. U cijenu uključen sav potreban materijal, alat i rad.
B6: Obračun po m² kompletno izvedene plohe. | C6: m2 | D6: 90 | F6: =D6*E6 -> 0
A8: 2. | B8: Nabava svog materijala, svi transporti i ličenje zidova ličenjem u boji i tonu po izboru Naručitelja u dva sloja sa svim potrebnim predradnjama i fazama nanošenja, uključivo pokretna skela i zaštita svih okolnih ugrađenih elemenata konstrukcije i drugog.
B9: Obračun po m² kompletno izvedene plohe. | C9: m2 | D9: 90 | F9: =D9*E9 -> 0
A11: 3. | B11: Priprema i zaštita drvene lamperije unutar građevine, uključivo čišćenje površine, lagano brušenje radi uklanjanja nečistoća i starih slabovezanih slojeva te pripremu podloge za završnu obradu. Dobava materijala i nanošenje zaštitnog premaza (lak lazura za drvo) u dva sloja na pripremljenu podlogu radi zaštite i postizanja ujednačenog izgleda drvene površine. Boja po izboru investitora
B12: U cijenu uključen sav potreban materijal, rad, alat, ugradnja novih kutnih lajsni, zaštita okolnih površina i čišćenje nakon završetka radova.
C13: m2 | D13: 40 | F13: =D13*E13 -> 0
A15: X. | B15: UKUPNO SOBOSLIKARSKO-LIČILAČKI RADOVI: | F15: =SUM(F6:F13) -> 0

Sheet XI. MONTAŽERSKI
A1: R.br. | B1: OPIS | C1: J.mj. | D1: Količina | E1: Cijena | F1: Iznos €
A3: XI. | B3: MONTAŽERSKI RADOVI
A5: 1. | B5: Izrada AMF stropa
B6: Stavka podrazumijeva dobavu i ugradnju kompletne potkonstrukcije, rubnih profila i stropnih AMF ploča stropa cca 15cm ispod postojeće stropne obloge te sav rad, materijal i skele potrebne za izvedbu AMF stropa. Prije izrade potkonstrukcije obavezno provjeriti nosivost postojeće stropne obloge.
B7: Stvaka podrazumijeva mjestimična pojačanja postojeće stropne konstrukcije po nalogu nadzornog inženjera.
B8: Obračun po m² kompletno izvedene plohe.
C9: m2 | D9: 60 | F9: =D9*E9 -> 0
A10: 3. | B10: Dobava i ugradnja rostfrei dimnjaka
B11: Stavka obuhvaća kompletnu dobavu, transport, montažu i ugradnju tipskog rostfrei dimnjaka za odvod dimnih plinova iz tehnoloških uređaja. U sklopu izvedbe uključuje se isporuka svih potrebnih elemenata dimnjaka od nehrđajućeg čelika, montaža na predviđenu poziciju, pričvršćivanje i brtvljenje spojeva te završna kontrola funkcionalnosti. Stavka osigurava dimnjak standardnih dimenzija i otpornosti na temperature i koroziju, sukladno tehničkim propisima i sigurnosnim normama. Cijena obuhvaća sve materijale, transport, radove montaže i završne provjere.
C12: m | D12: 5 | F12: =D12*E12 -> 0
A14: XI. | B14: UKUPNO MONTAŽERSKI RADOVI: | F14: =SUM(F6:F12) -> 0

Sheet XII. INSTALATERSKI RADOVI
A1: R.br. | B1: OPIS | C1: J.mj. | D1: Količina | E1: Cijena | F1: Iznos €
A3: XII. | B3: INSTALATERSKI RADOVI
A5: 1. | B5: Dobava i ugradnja ugradbene okrugle stropne downlighter svjetiljke s integriranim LED izvorom svjetlosti, efektivni svjetosni tok (svjetlosni tok svjetiljke s uračunatim gubicima u optičkom sustavu) min. 1600 lm, snaga sustava maks. 18 W (LED izvor + LED predspojna naprava), temperatura boje svjetlosti 4000K, faktor uzvrata boje Ra≥80, zaštita od zaprljanja i prodora vode min. IP44, mehanička zaštita min. IK02, životni vijek min 30.000h uz L80, ENEC certifikat ili jednakovrijedno , CE oznaka. Obračun po komadu.
C6: kom. | D6: 10 | F6: =D6*E6 -> 0
A7: 2. | B7: Dobava i ugradnja zidnog reflektora za vanjsku montažu, s LED izvorom svjetlosti maks. 50W, 3000 K, IP65. Obračun po komadu.
C8: kom. | D8: 2 | F8: =D8*E8 -> 0
A9: 3. | B9: Nabava i ugradnja kompaktnog klima uređaja s vanjskom i unutranjom zidnom jedinicom. DC INVERTER( reverzibilna dizalica topline zrak-zrak) s unuturanjom zidnom jedinicom. Stavka obuhvaća ugradnju do potpune funkcionalnosti, sva potrabna bušenja kroz zidove, eventualna krpanja nastala uslijed montaže klima uređaja, tlačna proba i puštanje u rad. Uređaj s funkcijom grijanja i hlađenja - minimalni kapacitet hlađenja od: 3,5 kW - minimalni kapacitet grijanja od: 3,67 kW - rashladno sredstvo R32 - napajanje ph-V-Hz, 1-220-50 - područje rada hlađenje/grijanje °C ( min-max); -20÷43°C/-20÷24°C - minimalno jamstvo proizvođača 2 godine
C10: kom. | D10: 1 | F10: =D10*E10 -> 0
A13: XII. | B13: UKUPNO INSTALATERSKI RADOVI: | F13: =SUM(F5:F12) -> 0

Sheet XIII. OPREMA
A1: R.br. | B1: OPIS | C1: J.mj. | D1: Količina | E1: Cijena | F1: Iznos €
A3: XIII. | B3: OPREMA
A5: 1. | B5: Opremanje i montaža čajne kuhinje
B6: Stavka obuhvaća kompletnu nabavu, dostavu, montažu i ugradnju čajne kuhinje. U sklopu ove stavke isporučuju se osnovni kuhinjski aparati. Također je uključen sudoper sa slavinom, radna ploha te ormarići za skladištenje posuđa i potrepština, a sve u standardnim dimenzijama. Cijena obuhvaća kompletnu dobavu svih navedenih elemenata kuhinje, njihovu montažu i ugradnju, kako bi čajna kuhinja bila funkcionalna i spremna za korištenje. | C6: kpl. | D6: 1 | F6: =D6*E6 -> 0
A8: XIII. | B8: UKUPNO OPREMA: | F8: =SUM(F6:F7) -> 0

Sheet REKAPITULACIJA
A2: REKAPITULACIJA
B4: GRAĐEVINSKO OBRTNIČKI RADOVI
A6: I. | B6: ZEMLJANI RADOVI | E6: ='I. ZEMLJANI'!F16 -> 0
A7: II. | B7: DEMONTAŽE I RUŠENJA | E7: ='II. DEMONTAŽE I RUŠENJA'!F34 -> 0
A8: III. | B8: ZIDARSKI RADOVI | E8: ='III. ZIDARSKI'!F13 -> 0
A9: IV. | B9: PODOPOLAGAČKI RADOVI | E9: ='IV. PODOPOLAGAČKI'!F15 -> 0
A10: V | B10: IZOLATERSKI RADOVI | E10: ='V. IZOLATERSKI'!F10 -> 0
A11: VI. | B11: BRAVARSKI RADOVI | E11: ='VI. BRAVARSKI'!F9 -> 0
A12: VII. | B12: FASADERSKI RADOVI | E12: ='VII. FASADERSKI'!F40 -> 0
A13: VIII. | B13: KROVOPOKRIVAČKI RADOVI | E13: ='VIII. KROVOPOKRIVAČKI'!F14 -> 0
A14: IX. | B14: LIMARSKI RADOVI | E14: ='IX. LIMARSKI'!F15 -> 0
A15: X. | B15: SOBOSLIKARSKO-LIČILAČKI RADOVI | E15: ='X. SOBOSLIKARSKI'!F15 -> 0
A16: XI. | B16: MONTAŽERSKI RADOVI | E16: ='XI. MONTAŽERSKI'!F14 -> 0
A17: XII. | B17: INSTALATERSKI RADOVI | E17: ='XII. INSTALATERSKI RADOVI'!F13 -> 0
A18: XIII. | B18: OPREMA | E18: ='XIII. OPREMA'!F8 -> 0
B21: UKUPNO GRAĐEVINSKO OBRTNIČKI RADOVI : | E21: =SUM(E6:E18) -> 0
B24: UKUPNO | E24: =SUM(E21:E22) -> 0
B25: PDV 25% | E25: =E24*0.25 -> 0
B26: SVEUKUPNO: | E26: =SUM(E25+E24) -> 0
